BEGIN:VCALENDAR
VERSION:2.0
PRODID:-//eventon.com NONSGML v1.0//EN
CALSCALE:GREGORIAN
METHOD:PUBLISH
BEGIN:VEVENT
UID:69e9029d8a56e
DTSTAMP:20260422T171717Z
DTSTART:20260320T220000Z
DTEND:20260320T220000Z
LOCATION:
SUMMARY:30th Annual Ronald H. Brown Leadership Gala
DESCRIPTION:Join us for a vibrant evening where purpose meets celebration a
 t the Ronald H. Brown Leadership Awards Gala. From the moment you arrive\, 
  you’ll be immersed in a lively atmosphere that promises great conversati
 on\,  exquisite dining\,  and an unforgettable night out on the town. This 
 is your chance to connect[..]\nhttps://ulpgh.org/events/30th-annual-ronald-
 h-brown-leadership-gala/
URL:https://ulpgh.org/events/30th-annual-ronald-h-brown-leadership-gala/
END:VEVENT
END:VCALENDAR